BEGIN:VCALENDAR
VERSION:2.0
PRODID:-//Care College - ECPv6.15.20//NONSGML v1.0//EN
CALSCALE:GREGORIAN
METHOD:PUBLISH
X-ORIGINAL-URL:https://www.carecollege.je
X-WR-CALDESC:Events for Care College
REFRESH-INTERVAL;VALUE=DURATION:PT1H
X-Robots-Tag:noindex
X-PUBLISHED-TTL:PT1H
BEGIN:VTIMEZONE
TZID:Europe/Jersey
BEGIN:DAYLIGHT
TZOFFSETFROM:+0000
TZOFFSETTO:+0100
TZNAME:BST
DTSTART:20230326T010000
END:DAYLIGHT
BEGIN:STANDARD
TZOFFSETFROM:+0100
TZOFFSETTO:+0000
TZNAME:GMT
DTSTART:20231029T010000
END:STANDARD
BEGIN:DAYLIGHT
TZOFFSETFROM:+0000
TZOFFSETTO:+0100
TZNAME:BST
DTSTART:20240331T010000
END:DAYLIGHT
BEGIN:STANDARD
TZOFFSETFROM:+0100
TZOFFSETTO:+0000
TZNAME:GMT
DTSTART:20241027T010000
END:STANDARD
BEGIN:DAYLIGHT
TZOFFSETFROM:+0000
TZOFFSETTO:+0100
TZNAME:BST
DTSTART:20250330T010000
END:DAYLIGHT
BEGIN:STANDARD
TZOFFSETFROM:+0100
TZOFFSETTO:+0000
TZNAME:GMT
DTSTART:20251026T010000
END:STANDARD
END:VTIMEZONE
BEGIN:VEVENT
DTSTART;TZID=Europe/Jersey:20240722T080000
DTEND;TZID=Europe/Jersey:20240722T170000
DTSTAMP:20260421T183928
CREATED:20240722T094145Z
LAST-MODIFIED:20240729T135839Z
UID:10000431-1721635200-1721667600@www.carecollege.je
SUMMARY:demo course 78
DESCRIPTION:dgdfgdfg
URL:https://www.carecollege.je/course/demo-course-78/
CATEGORIES:Course Common Category
ORGANIZER;CN="Anne McConomy":MAILTO:anne@carecollege.je
END:VEVENT
END:VCALENDAR